BEGIN:VCALENDAR
PRODID:-//Calendar export
VERSION:2.0
X-WR-TIMEZONE:Etc/GMT
BEGIN:VTIMEZONE
TZID:GMT Standard Time
BEGIN:STANDARD
TZOFFSETFROM:+0000
TZOFFSETTO:+0000
END:STANDARD
END:VTIMEZONE
BEGIN:VEVENT
UID:AE3139
DTSTAMP:20260423T150500Z
SUMMARY:BUILD INFORMATION MODELING 3D
CLASS:PUBLIC
DESCRIPTION:BUILD INFORMATION MODELING 3D - ΤΕΧΝΙΚΟ ΕΠΙΜ. ΕΛΛΑΔΑΣ / ΠΕΡ
 . ΤΜΗΜΑ ΒΑ ΑΙΓ
 ΑΙΟΥ
STATUS:CONFIRMED
PRIORITY:1
DTSTART:20260508T150000Z
DTEND:20260508T180000Z
TRANSP:OPAQUE
END:VEVENT
END:VCALENDAR
